BEGIN:VCALENDAR
VERSION:2.0
PRODID:-//Huis Miereveld - ECPv6.15.20//NONSGML v1.0//EN
CALSCALE:GREGORIAN
METHOD:PUBLISH
X-WR-CALNAME:Huis Miereveld
X-ORIGINAL-URL:https://www.huismiereveld.nl
X-WR-CALDESC:Evenementen voor Huis Miereveld
REFRESH-INTERVAL;VALUE=DURATION:PT1H
X-Robots-Tag:noindex
X-PUBLISHED-TTL:PT1H
BEGIN:VTIMEZONE
TZID:Europe/Amsterdam
BEGIN:DAYLIGHT
TZOFFSETFROM:+0100
TZOFFSETTO:+0200
TZNAME:CEST
DTSTART:20250330T010000
END:DAYLIGHT
BEGIN:STANDARD
TZOFFSETFROM:+0200
TZOFFSETTO:+0100
TZNAME:CET
DTSTART:20251026T010000
END:STANDARD
BEGIN:DAYLIGHT
TZOFFSETFROM:+0100
TZOFFSETTO:+0200
TZNAME:CEST
DTSTART:20260329T010000
END:DAYLIGHT
BEGIN:STANDARD
TZOFFSETFROM:+0200
TZOFFSETTO:+0100
TZNAME:CET
DTSTART:20261025T010000
END:STANDARD
BEGIN:DAYLIGHT
TZOFFSETFROM:+0100
TZOFFSETTO:+0200
TZNAME:CEST
DTSTART:20270328T010000
END:DAYLIGHT
BEGIN:STANDARD
TZOFFSETFROM:+0200
TZOFFSETTO:+0100
TZNAME:CET
DTSTART:20271031T010000
END:STANDARD
END:VTIMEZONE
BEGIN:VEVENT
DTSTART;TZID=Europe/Amsterdam:20260428T090000
DTEND;TZID=Europe/Amsterdam:20260428T170000
DTSTAMP:20260420T205553
CREATED:20260317T181139Z
LAST-MODIFIED:20260317T181304Z
UID:10009226-1777366800-1777395600@www.huismiereveld.nl
SUMMARY:Textielfestival Communityproject: Samen werken aan een Wandkleed
DESCRIPTION:Communityproject Textielfestival – WAT ER verTELT\nVan oktober 2025 tot en met april 2026 reist het community project door het land met een collectief kunstproject\, waarin water\, textiel\, herinnering en duurzaamheid centraal staan. \nIn een land dat tegelijkertijd onder water én droog staat\, waar het water ons aan de lippen staat\, ontstaat een nieuw nationaal tweeluik van hoop. Water is een wezenlijk onderdeel van heel het leven nu en in de toekomst\, zowel van eten\, wonen\, verplaatsen\, kleding\, natuur enz.\, vandaar dat voor het wandkleed WATER als bindende factor wordt gebruikt. \nWat?\nOnder leiding van textielkunstenares Anne van den Heuvel en projectleider Hanneke Heydenrijk reist het Communityproject van oktober ’25 t/m begin mei ’26 door het land met dit project. Op 20 plekken – zo ook in Huis Miereveld – komen mensen samen om te werken aan het enorme wandkleed en verhalen\, herinneringen en creativiteit met elkaar te delen. Een oproep aan ons allemaal! \nWe gebruiken bestaand materiaal: onafgemaakte projecten\, verstopte stalen\, vergeten stoffen\, oude jeans\, familiedoeken\, proeflappen\, probeersels\, knopen\, kralen\, biesjes\, bandjes\, kantjes ….. Textiel dat jóuw verhaal vertelt. \nHaal je ‘goud’ uit de kasten\, kisten\, laatjes\, mandjes\, bakjes en van zolderkamers. Verzamel alvast je oude jeans. Binnenkort kun je het gaan gebruiken. \nWie?\nIedereen kan meedoen. Ook als je nog nooit een steek hebt gezet. Want dit project vraagt jouw bijdrage. Mensen kunnen ook op afstand meedoen en werkstukjes insturen; denk aan clubjes\, kringen\, scholen of instellingen. \nHet project vraagt niet om perfectie\, wél om jouw betrokkenheid! \nHet resultaat\nEen prachtig tweeluik opgebouwd uit textiel\nEen samenspel\, gemaakt door honderden handen\, verhalen en intenties\nTe zien tijdens het Textielfestival 2026 in de Sint Joriskerk in Amersfoort. \nWanneer: 28 april en 2 mei in de hal en Huiskamer van Huis Miereveld\nAanmelden en meer informatie via de website van het Textielfestival
URL:https://www.huismiereveld.nl/event/textielfestival-communityproject-samen-werken-aan-een-wandkleed/2026-04-28/
ATTACH;FMTTYPE=image/jpeg:https://www.huismiereveld.nl/wp-content/uploads/2026/03/IMG_2259.jpeg
END:VEVENT
BEGIN:VEVENT
DTSTART;TZID=Europe/Amsterdam:20260502T090000
DTEND;TZID=Europe/Amsterdam:20260502T170000
DTSTAMP:20260420T205553
CREATED:20260317T181139Z
LAST-MODIFIED:20260317T181304Z
UID:10009227-1777712400-1777741200@www.huismiereveld.nl
SUMMARY:Textielfestival Communityproject: Samen werken aan een Wandkleed
DESCRIPTION:Communityproject Textielfestival – WAT ER verTELT\nVan oktober 2025 tot en met april 2026 reist het community project door het land met een collectief kunstproject\, waarin water\, textiel\, herinnering en duurzaamheid centraal staan. \nIn een land dat tegelijkertijd onder water én droog staat\, waar het water ons aan de lippen staat\, ontstaat een nieuw nationaal tweeluik van hoop. Water is een wezenlijk onderdeel van heel het leven nu en in de toekomst\, zowel van eten\, wonen\, verplaatsen\, kleding\, natuur enz.\, vandaar dat voor het wandkleed WATER als bindende factor wordt gebruikt. \nWat?\nOnder leiding van textielkunstenares Anne van den Heuvel en projectleider Hanneke Heydenrijk reist het Communityproject van oktober ’25 t/m begin mei ’26 door het land met dit project. Op 20 plekken – zo ook in Huis Miereveld – komen mensen samen om te werken aan het enorme wandkleed en verhalen\, herinneringen en creativiteit met elkaar te delen. Een oproep aan ons allemaal! \nWe gebruiken bestaand materiaal: onafgemaakte projecten\, verstopte stalen\, vergeten stoffen\, oude jeans\, familiedoeken\, proeflappen\, probeersels\, knopen\, kralen\, biesjes\, bandjes\, kantjes ….. Textiel dat jóuw verhaal vertelt. \nHaal je ‘goud’ uit de kasten\, kisten\, laatjes\, mandjes\, bakjes en van zolderkamers. Verzamel alvast je oude jeans. Binnenkort kun je het gaan gebruiken. \nWie?\nIedereen kan meedoen. Ook als je nog nooit een steek hebt gezet. Want dit project vraagt jouw bijdrage. Mensen kunnen ook op afstand meedoen en werkstukjes insturen; denk aan clubjes\, kringen\, scholen of instellingen. \nHet project vraagt niet om perfectie\, wél om jouw betrokkenheid! \nHet resultaat\nEen prachtig tweeluik opgebouwd uit textiel\nEen samenspel\, gemaakt door honderden handen\, verhalen en intenties\nTe zien tijdens het Textielfestival 2026 in de Sint Joriskerk in Amersfoort. \nWanneer: 28 april en 2 mei in de hal en Huiskamer van Huis Miereveld\nAanmelden en meer informatie via de website van het Textielfestival
URL:https://www.huismiereveld.nl/event/textielfestival-communityproject-samen-werken-aan-een-wandkleed/2026-05-02/
ATTACH;FMTTYPE=image/jpeg:https://www.huismiereveld.nl/wp-content/uploads/2026/03/IMG_2259.jpeg
END:VEVENT
END:VCALENDAR