BEGIN:VCALENDAR
VERSION:2.0
PRODID:-//Huis Miereveld - ECPv6.15.20//NONSGML v1.0//EN
CALSCALE:GREGORIAN
METHOD:PUBLISH
X-WR-CALNAME:Huis Miereveld
X-ORIGINAL-URL:https://www.huismiereveld.nl
X-WR-CALDESC:Evenementen voor Huis Miereveld
REFRESH-INTERVAL;VALUE=DURATION:PT1H
X-Robots-Tag:noindex
X-PUBLISHED-TTL:PT1H
BEGIN:VTIMEZONE
TZID:Europe/Amsterdam
BEGIN:DAYLIGHT
TZOFFSETFROM:+0100
TZOFFSETTO:+0200
TZNAME:CEST
DTSTART:20250330T010000
END:DAYLIGHT
BEGIN:STANDARD
TZOFFSETFROM:+0200
TZOFFSETTO:+0100
TZNAME:CET
DTSTART:20251026T010000
END:STANDARD
BEGIN:DAYLIGHT
TZOFFSETFROM:+0100
TZOFFSETTO:+0200
TZNAME:CEST
DTSTART:20260329T010000
END:DAYLIGHT
BEGIN:STANDARD
TZOFFSETFROM:+0200
TZOFFSETTO:+0100
TZNAME:CET
DTSTART:20261025T010000
END:STANDARD
BEGIN:DAYLIGHT
TZOFFSETFROM:+0100
TZOFFSETTO:+0200
TZNAME:CEST
DTSTART:20270328T010000
END:DAYLIGHT
BEGIN:STANDARD
TZOFFSETFROM:+0200
TZOFFSETTO:+0100
TZNAME:CET
DTSTART:20271031T010000
END:STANDARD
BEGIN:DAYLIGHT
TZOFFSETFROM:+0100
TZOFFSETTO:+0200
TZNAME:CEST
DTSTART:20280326T010000
END:DAYLIGHT
BEGIN:STANDARD
TZOFFSETFROM:+0200
TZOFFSETTO:+0100
TZNAME:CET
DTSTART:20281029T010000
END:STANDARD
END:VTIMEZONE
BEGIN:VEVENT
DTSTART;TZID=Europe/Amsterdam:20260501T150000
DTEND;TZID=Europe/Amsterdam:20260501T210000
DTSTAMP:20260422T173820
CREATED:20260216T195545Z
LAST-MODIFIED:20260217T191416Z
UID:10008725-1777647600-1777669200@www.huismiereveld.nl
SUMMARY:Bordspellenmiddag & -avond Young adults (ca 15-25 jr)
DESCRIPTION:Elke eerste en derde vrijdag van de maand (15-21u) is er een gezellige bordspellenavond in Huis Miereveld\, speciaal voor Young Adults tussen de circa 15 en 25 jaar. Er zijn volop bordspellen\, maar als je thuis een leuk spel hebt liggen: neem vooral mee. Je hoeft je niet vooraf op te geven (tenzij je mee-eet)\, je kunt binnenlopen en weggaan wanneer je wilt. \nUiteraard zorgen we voor een drankje (koffie/thee/fris) en als je het leuk vindt\, eet je tussen 18 en 19u gezellig een kop soep mee. Tafels dekken\, soep warmen en opruimen regelen we met elkaar. Voor het eten moet je je vooraf wel opgeven (voor donderdag 11u\, voorafgaand aan de spellenavond). Dat kan met dit formulier \nKom je alleen en vind je het spannend? Stuur gerust een appje naar Anna (18)\, zij organiseert deze avonden. Dan vangen we je op.\nAan het einde van de avond ruimen we met elkaar op. \nHopelijk zien we je snel\, je bent iig van harte welkom! \nWanneer: elke 1e en 3e vrijdag van de maand\, van 15-21u (eten tussen 18-19u)\nVoor wie: young adults\, cq iedereen tussen de ca 15-25 jaar\nWaar:\n– 1e vrijdag Welzinruimte (door de bruine deuren\, links van de grote ronde tafel)\n– 3e vrijdag in de Huiskamer (door de bruine deuren\, twee keer rechts)\nAanmelden: niet nodig\, loop gerust binnen. Eet je mee? Meld je dan wel even aan via dit formulier \nKosten: Soep: € 1\,00 / € 2\,50 / € 5 | Koffie / thee: € 0\,50 / € 1\,00\nVragen/info: app of sms Anna op T06 8363 4248
URL:https://www.huismiereveld.nl/event/bordspellenmiddag-avond-young-adults-ca-15-25-jr/2026-05-01/
ATTACH;FMTTYPE=image/jpeg:https://www.huismiereveld.nl/wp-content/uploads/2026/02/pexels-cottonbro-4004420-scaled.jpg
END:VEVENT
BEGIN:VEVENT
DTSTART;TZID=Europe/Amsterdam:20260605T150000
DTEND;TZID=Europe/Amsterdam:20260605T210000
DTSTAMP:20260422T173820
CREATED:20260216T195545Z
LAST-MODIFIED:20260217T191416Z
UID:10008726-1780671600-1780693200@www.huismiereveld.nl
SUMMARY:Bordspellenmiddag & -avond Young adults (ca 15-25 jr)
DESCRIPTION:Elke eerste en derde vrijdag van de maand (15-21u) is er een gezellige bordspellenavond in Huis Miereveld\, speciaal voor Young Adults tussen de circa 15 en 25 jaar. Er zijn volop bordspellen\, maar als je thuis een leuk spel hebt liggen: neem vooral mee. Je hoeft je niet vooraf op te geven (tenzij je mee-eet)\, je kunt binnenlopen en weggaan wanneer je wilt. \nUiteraard zorgen we voor een drankje (koffie/thee/fris) en als je het leuk vindt\, eet je tussen 18 en 19u gezellig een kop soep mee. Tafels dekken\, soep warmen en opruimen regelen we met elkaar. Voor het eten moet je je vooraf wel opgeven (voor donderdag 11u\, voorafgaand aan de spellenavond). Dat kan met dit formulier \nKom je alleen en vind je het spannend? Stuur gerust een appje naar Anna (18)\, zij organiseert deze avonden. Dan vangen we je op.\nAan het einde van de avond ruimen we met elkaar op. \nHopelijk zien we je snel\, je bent iig van harte welkom! \nWanneer: elke 1e en 3e vrijdag van de maand\, van 15-21u (eten tussen 18-19u)\nVoor wie: young adults\, cq iedereen tussen de ca 15-25 jaar\nWaar:\n– 1e vrijdag Welzinruimte (door de bruine deuren\, links van de grote ronde tafel)\n– 3e vrijdag in de Huiskamer (door de bruine deuren\, twee keer rechts)\nAanmelden: niet nodig\, loop gerust binnen. Eet je mee? Meld je dan wel even aan via dit formulier \nKosten: Soep: € 1\,00 / € 2\,50 / € 5 | Koffie / thee: € 0\,50 / € 1\,00\nVragen/info: app of sms Anna op T06 8363 4248
URL:https://www.huismiereveld.nl/event/bordspellenmiddag-avond-young-adults-ca-15-25-jr/2026-06-05/
ATTACH;FMTTYPE=image/jpeg:https://www.huismiereveld.nl/wp-content/uploads/2026/02/pexels-cottonbro-4004420-scaled.jpg
END:VEVENT
BEGIN:VEVENT
DTSTART;TZID=Europe/Amsterdam:20260703T150000
DTEND;TZID=Europe/Amsterdam:20260703T210000
DTSTAMP:20260422T173820
CREATED:20260216T195545Z
LAST-MODIFIED:20260217T191416Z
UID:10008727-1783090800-1783112400@www.huismiereveld.nl
SUMMARY:Bordspellenmiddag & -avond Young adults (ca 15-25 jr)
DESCRIPTION:Elke eerste en derde vrijdag van de maand (15-21u) is er een gezellige bordspellenavond in Huis Miereveld\, speciaal voor Young Adults tussen de circa 15 en 25 jaar. Er zijn volop bordspellen\, maar als je thuis een leuk spel hebt liggen: neem vooral mee. Je hoeft je niet vooraf op te geven (tenzij je mee-eet)\, je kunt binnenlopen en weggaan wanneer je wilt. \nUiteraard zorgen we voor een drankje (koffie/thee/fris) en als je het leuk vindt\, eet je tussen 18 en 19u gezellig een kop soep mee. Tafels dekken\, soep warmen en opruimen regelen we met elkaar. Voor het eten moet je je vooraf wel opgeven (voor donderdag 11u\, voorafgaand aan de spellenavond). Dat kan met dit formulier \nKom je alleen en vind je het spannend? Stuur gerust een appje naar Anna (18)\, zij organiseert deze avonden. Dan vangen we je op.\nAan het einde van de avond ruimen we met elkaar op. \nHopelijk zien we je snel\, je bent iig van harte welkom! \nWanneer: elke 1e en 3e vrijdag van de maand\, van 15-21u (eten tussen 18-19u)\nVoor wie: young adults\, cq iedereen tussen de ca 15-25 jaar\nWaar:\n– 1e vrijdag Welzinruimte (door de bruine deuren\, links van de grote ronde tafel)\n– 3e vrijdag in de Huiskamer (door de bruine deuren\, twee keer rechts)\nAanmelden: niet nodig\, loop gerust binnen. Eet je mee? Meld je dan wel even aan via dit formulier \nKosten: Soep: € 1\,00 / € 2\,50 / € 5 | Koffie / thee: € 0\,50 / € 1\,00\nVragen/info: app of sms Anna op T06 8363 4248
URL:https://www.huismiereveld.nl/event/bordspellenmiddag-avond-young-adults-ca-15-25-jr/2026-07-03/
ATTACH;FMTTYPE=image/jpeg:https://www.huismiereveld.nl/wp-content/uploads/2026/02/pexels-cottonbro-4004420-scaled.jpg
END:VEVENT
BEGIN:VEVENT
DTSTART;TZID=Europe/Amsterdam:20260807T150000
DTEND;TZID=Europe/Amsterdam:20260807T210000
DTSTAMP:20260422T173820
CREATED:20260216T195545Z
LAST-MODIFIED:20260217T191416Z
UID:10008728-1786114800-1786136400@www.huismiereveld.nl
SUMMARY:Bordspellenmiddag & -avond Young adults (ca 15-25 jr)
DESCRIPTION:Elke eerste en derde vrijdag van de maand (15-21u) is er een gezellige bordspellenavond in Huis Miereveld\, speciaal voor Young Adults tussen de circa 15 en 25 jaar. Er zijn volop bordspellen\, maar als je thuis een leuk spel hebt liggen: neem vooral mee. Je hoeft je niet vooraf op te geven (tenzij je mee-eet)\, je kunt binnenlopen en weggaan wanneer je wilt. \nUiteraard zorgen we voor een drankje (koffie/thee/fris) en als je het leuk vindt\, eet je tussen 18 en 19u gezellig een kop soep mee. Tafels dekken\, soep warmen en opruimen regelen we met elkaar. Voor het eten moet je je vooraf wel opgeven (voor donderdag 11u\, voorafgaand aan de spellenavond). Dat kan met dit formulier \nKom je alleen en vind je het spannend? Stuur gerust een appje naar Anna (18)\, zij organiseert deze avonden. Dan vangen we je op.\nAan het einde van de avond ruimen we met elkaar op. \nHopelijk zien we je snel\, je bent iig van harte welkom! \nWanneer: elke 1e en 3e vrijdag van de maand\, van 15-21u (eten tussen 18-19u)\nVoor wie: young adults\, cq iedereen tussen de ca 15-25 jaar\nWaar:\n– 1e vrijdag Welzinruimte (door de bruine deuren\, links van de grote ronde tafel)\n– 3e vrijdag in de Huiskamer (door de bruine deuren\, twee keer rechts)\nAanmelden: niet nodig\, loop gerust binnen. Eet je mee? Meld je dan wel even aan via dit formulier \nKosten: Soep: € 1\,00 / € 2\,50 / € 5 | Koffie / thee: € 0\,50 / € 1\,00\nVragen/info: app of sms Anna op T06 8363 4248
URL:https://www.huismiereveld.nl/event/bordspellenmiddag-avond-young-adults-ca-15-25-jr/2026-08-07/
ATTACH;FMTTYPE=image/jpeg:https://www.huismiereveld.nl/wp-content/uploads/2026/02/pexels-cottonbro-4004420-scaled.jpg
END:VEVENT
BEGIN:VEVENT
DTSTART;TZID=Europe/Amsterdam:20260904T150000
DTEND;TZID=Europe/Amsterdam:20260904T210000
DTSTAMP:20260422T173820
CREATED:20260216T195545Z
LAST-MODIFIED:20260217T191416Z
UID:10008729-1788534000-1788555600@www.huismiereveld.nl
SUMMARY:Bordspellenmiddag & -avond Young adults (ca 15-25 jr)
DESCRIPTION:Elke eerste en derde vrijdag van de maand (15-21u) is er een gezellige bordspellenavond in Huis Miereveld\, speciaal voor Young Adults tussen de circa 15 en 25 jaar. Er zijn volop bordspellen\, maar als je thuis een leuk spel hebt liggen: neem vooral mee. Je hoeft je niet vooraf op te geven (tenzij je mee-eet)\, je kunt binnenlopen en weggaan wanneer je wilt. \nUiteraard zorgen we voor een drankje (koffie/thee/fris) en als je het leuk vindt\, eet je tussen 18 en 19u gezellig een kop soep mee. Tafels dekken\, soep warmen en opruimen regelen we met elkaar. Voor het eten moet je je vooraf wel opgeven (voor donderdag 11u\, voorafgaand aan de spellenavond). Dat kan met dit formulier \nKom je alleen en vind je het spannend? Stuur gerust een appje naar Anna (18)\, zij organiseert deze avonden. Dan vangen we je op.\nAan het einde van de avond ruimen we met elkaar op. \nHopelijk zien we je snel\, je bent iig van harte welkom! \nWanneer: elke 1e en 3e vrijdag van de maand\, van 15-21u (eten tussen 18-19u)\nVoor wie: young adults\, cq iedereen tussen de ca 15-25 jaar\nWaar:\n– 1e vrijdag Welzinruimte (door de bruine deuren\, links van de grote ronde tafel)\n– 3e vrijdag in de Huiskamer (door de bruine deuren\, twee keer rechts)\nAanmelden: niet nodig\, loop gerust binnen. Eet je mee? Meld je dan wel even aan via dit formulier \nKosten: Soep: € 1\,00 / € 2\,50 / € 5 | Koffie / thee: € 0\,50 / € 1\,00\nVragen/info: app of sms Anna op T06 8363 4248
URL:https://www.huismiereveld.nl/event/bordspellenmiddag-avond-young-adults-ca-15-25-jr/2026-09-04/
ATTACH;FMTTYPE=image/jpeg:https://www.huismiereveld.nl/wp-content/uploads/2026/02/pexels-cottonbro-4004420-scaled.jpg
END:VEVENT
BEGIN:VEVENT
DTSTART;TZID=Europe/Amsterdam:20261002T150000
DTEND;TZID=Europe/Amsterdam:20261002T210000
DTSTAMP:20260422T173820
CREATED:20260216T195545Z
LAST-MODIFIED:20260217T191416Z
UID:10008730-1790953200-1790974800@www.huismiereveld.nl
SUMMARY:Bordspellenmiddag & -avond Young adults (ca 15-25 jr)
DESCRIPTION:Elke eerste en derde vrijdag van de maand (15-21u) is er een gezellige bordspellenavond in Huis Miereveld\, speciaal voor Young Adults tussen de circa 15 en 25 jaar. Er zijn volop bordspellen\, maar als je thuis een leuk spel hebt liggen: neem vooral mee. Je hoeft je niet vooraf op te geven (tenzij je mee-eet)\, je kunt binnenlopen en weggaan wanneer je wilt. \nUiteraard zorgen we voor een drankje (koffie/thee/fris) en als je het leuk vindt\, eet je tussen 18 en 19u gezellig een kop soep mee. Tafels dekken\, soep warmen en opruimen regelen we met elkaar. Voor het eten moet je je vooraf wel opgeven (voor donderdag 11u\, voorafgaand aan de spellenavond). Dat kan met dit formulier \nKom je alleen en vind je het spannend? Stuur gerust een appje naar Anna (18)\, zij organiseert deze avonden. Dan vangen we je op.\nAan het einde van de avond ruimen we met elkaar op. \nHopelijk zien we je snel\, je bent iig van harte welkom! \nWanneer: elke 1e en 3e vrijdag van de maand\, van 15-21u (eten tussen 18-19u)\nVoor wie: young adults\, cq iedereen tussen de ca 15-25 jaar\nWaar:\n– 1e vrijdag Welzinruimte (door de bruine deuren\, links van de grote ronde tafel)\n– 3e vrijdag in de Huiskamer (door de bruine deuren\, twee keer rechts)\nAanmelden: niet nodig\, loop gerust binnen. Eet je mee? Meld je dan wel even aan via dit formulier \nKosten: Soep: € 1\,00 / € 2\,50 / € 5 | Koffie / thee: € 0\,50 / € 1\,00\nVragen/info: app of sms Anna op T06 8363 4248
URL:https://www.huismiereveld.nl/event/bordspellenmiddag-avond-young-adults-ca-15-25-jr/2026-10-02/
ATTACH;FMTTYPE=image/jpeg:https://www.huismiereveld.nl/wp-content/uploads/2026/02/pexels-cottonbro-4004420-scaled.jpg
END:VEVENT
BEGIN:VEVENT
DTSTART;TZID=Europe/Amsterdam:20261106T150000
DTEND;TZID=Europe/Amsterdam:20261106T210000
DTSTAMP:20260422T173820
CREATED:20260216T195545Z
LAST-MODIFIED:20260217T191416Z
UID:10008731-1793977200-1793998800@www.huismiereveld.nl
SUMMARY:Bordspellenmiddag & -avond Young adults (ca 15-25 jr)
DESCRIPTION:Elke eerste en derde vrijdag van de maand (15-21u) is er een gezellige bordspellenavond in Huis Miereveld\, speciaal voor Young Adults tussen de circa 15 en 25 jaar. Er zijn volop bordspellen\, maar als je thuis een leuk spel hebt liggen: neem vooral mee. Je hoeft je niet vooraf op te geven (tenzij je mee-eet)\, je kunt binnenlopen en weggaan wanneer je wilt. \nUiteraard zorgen we voor een drankje (koffie/thee/fris) en als je het leuk vindt\, eet je tussen 18 en 19u gezellig een kop soep mee. Tafels dekken\, soep warmen en opruimen regelen we met elkaar. Voor het eten moet je je vooraf wel opgeven (voor donderdag 11u\, voorafgaand aan de spellenavond). Dat kan met dit formulier \nKom je alleen en vind je het spannend? Stuur gerust een appje naar Anna (18)\, zij organiseert deze avonden. Dan vangen we je op.\nAan het einde van de avond ruimen we met elkaar op. \nHopelijk zien we je snel\, je bent iig van harte welkom! \nWanneer: elke 1e en 3e vrijdag van de maand\, van 15-21u (eten tussen 18-19u)\nVoor wie: young adults\, cq iedereen tussen de ca 15-25 jaar\nWaar:\n– 1e vrijdag Welzinruimte (door de bruine deuren\, links van de grote ronde tafel)\n– 3e vrijdag in de Huiskamer (door de bruine deuren\, twee keer rechts)\nAanmelden: niet nodig\, loop gerust binnen. Eet je mee? Meld je dan wel even aan via dit formulier \nKosten: Soep: € 1\,00 / € 2\,50 / € 5 | Koffie / thee: € 0\,50 / € 1\,00\nVragen/info: app of sms Anna op T06 8363 4248
URL:https://www.huismiereveld.nl/event/bordspellenmiddag-avond-young-adults-ca-15-25-jr/2026-11-06/
ATTACH;FMTTYPE=image/jpeg:https://www.huismiereveld.nl/wp-content/uploads/2026/02/pexels-cottonbro-4004420-scaled.jpg
END:VEVENT
BEGIN:VEVENT
DTSTART;TZID=Europe/Amsterdam:20261204T150000
DTEND;TZID=Europe/Amsterdam:20261204T210000
DTSTAMP:20260422T173820
CREATED:20260216T195545Z
LAST-MODIFIED:20260217T191416Z
UID:10008732-1796396400-1796418000@www.huismiereveld.nl
SUMMARY:Bordspellenmiddag & -avond Young adults (ca 15-25 jr)
DESCRIPTION:Elke eerste en derde vrijdag van de maand (15-21u) is er een gezellige bordspellenavond in Huis Miereveld\, speciaal voor Young Adults tussen de circa 15 en 25 jaar. Er zijn volop bordspellen\, maar als je thuis een leuk spel hebt liggen: neem vooral mee. Je hoeft je niet vooraf op te geven (tenzij je mee-eet)\, je kunt binnenlopen en weggaan wanneer je wilt. \nUiteraard zorgen we voor een drankje (koffie/thee/fris) en als je het leuk vindt\, eet je tussen 18 en 19u gezellig een kop soep mee. Tafels dekken\, soep warmen en opruimen regelen we met elkaar. Voor het eten moet je je vooraf wel opgeven (voor donderdag 11u\, voorafgaand aan de spellenavond). Dat kan met dit formulier \nKom je alleen en vind je het spannend? Stuur gerust een appje naar Anna (18)\, zij organiseert deze avonden. Dan vangen we je op.\nAan het einde van de avond ruimen we met elkaar op. \nHopelijk zien we je snel\, je bent iig van harte welkom! \nWanneer: elke 1e en 3e vrijdag van de maand\, van 15-21u (eten tussen 18-19u)\nVoor wie: young adults\, cq iedereen tussen de ca 15-25 jaar\nWaar:\n– 1e vrijdag Welzinruimte (door de bruine deuren\, links van de grote ronde tafel)\n– 3e vrijdag in de Huiskamer (door de bruine deuren\, twee keer rechts)\nAanmelden: niet nodig\, loop gerust binnen. Eet je mee? Meld je dan wel even aan via dit formulier \nKosten: Soep: € 1\,00 / € 2\,50 / € 5 | Koffie / thee: € 0\,50 / € 1\,00\nVragen/info: app of sms Anna op T06 8363 4248
URL:https://www.huismiereveld.nl/event/bordspellenmiddag-avond-young-adults-ca-15-25-jr/2026-12-04/
ATTACH;FMTTYPE=image/jpeg:https://www.huismiereveld.nl/wp-content/uploads/2026/02/pexels-cottonbro-4004420-scaled.jpg
END:VEVENT
BEGIN:VEVENT
DTSTART;TZID=Europe/Amsterdam:20270101T150000
DTEND;TZID=Europe/Amsterdam:20270101T210000
DTSTAMP:20260422T173820
CREATED:20260216T195545Z
LAST-MODIFIED:20260217T191416Z
UID:10008733-1798815600-1798837200@www.huismiereveld.nl
SUMMARY:Bordspellenmiddag & -avond Young adults (ca 15-25 jr)
DESCRIPTION:Elke eerste en derde vrijdag van de maand (15-21u) is er een gezellige bordspellenavond in Huis Miereveld\, speciaal voor Young Adults tussen de circa 15 en 25 jaar. Er zijn volop bordspellen\, maar als je thuis een leuk spel hebt liggen: neem vooral mee. Je hoeft je niet vooraf op te geven (tenzij je mee-eet)\, je kunt binnenlopen en weggaan wanneer je wilt. \nUiteraard zorgen we voor een drankje (koffie/thee/fris) en als je het leuk vindt\, eet je tussen 18 en 19u gezellig een kop soep mee. Tafels dekken\, soep warmen en opruimen regelen we met elkaar. Voor het eten moet je je vooraf wel opgeven (voor donderdag 11u\, voorafgaand aan de spellenavond). Dat kan met dit formulier \nKom je alleen en vind je het spannend? Stuur gerust een appje naar Anna (18)\, zij organiseert deze avonden. Dan vangen we je op.\nAan het einde van de avond ruimen we met elkaar op. \nHopelijk zien we je snel\, je bent iig van harte welkom! \nWanneer: elke 1e en 3e vrijdag van de maand\, van 15-21u (eten tussen 18-19u)\nVoor wie: young adults\, cq iedereen tussen de ca 15-25 jaar\nWaar:\n– 1e vrijdag Welzinruimte (door de bruine deuren\, links van de grote ronde tafel)\n– 3e vrijdag in de Huiskamer (door de bruine deuren\, twee keer rechts)\nAanmelden: niet nodig\, loop gerust binnen. Eet je mee? Meld je dan wel even aan via dit formulier \nKosten: Soep: € 1\,00 / € 2\,50 / € 5 | Koffie / thee: € 0\,50 / € 1\,00\nVragen/info: app of sms Anna op T06 8363 4248
URL:https://www.huismiereveld.nl/event/bordspellenmiddag-avond-young-adults-ca-15-25-jr/2027-01-01/
ATTACH;FMTTYPE=image/jpeg:https://www.huismiereveld.nl/wp-content/uploads/2026/02/pexels-cottonbro-4004420-scaled.jpg
END:VEVENT
BEGIN:VEVENT
DTSTART;TZID=Europe/Amsterdam:20270205T150000
DTEND;TZID=Europe/Amsterdam:20270205T210000
DTSTAMP:20260422T173820
CREATED:20260216T195545Z
LAST-MODIFIED:20260217T191416Z
UID:10008734-1801839600-1801861200@www.huismiereveld.nl
SUMMARY:Bordspellenmiddag & -avond Young adults (ca 15-25 jr)
DESCRIPTION:Elke eerste en derde vrijdag van de maand (15-21u) is er een gezellige bordspellenavond in Huis Miereveld\, speciaal voor Young Adults tussen de circa 15 en 25 jaar. Er zijn volop bordspellen\, maar als je thuis een leuk spel hebt liggen: neem vooral mee. Je hoeft je niet vooraf op te geven (tenzij je mee-eet)\, je kunt binnenlopen en weggaan wanneer je wilt. \nUiteraard zorgen we voor een drankje (koffie/thee/fris) en als je het leuk vindt\, eet je tussen 18 en 19u gezellig een kop soep mee. Tafels dekken\, soep warmen en opruimen regelen we met elkaar. Voor het eten moet je je vooraf wel opgeven (voor donderdag 11u\, voorafgaand aan de spellenavond). Dat kan met dit formulier \nKom je alleen en vind je het spannend? Stuur gerust een appje naar Anna (18)\, zij organiseert deze avonden. Dan vangen we je op.\nAan het einde van de avond ruimen we met elkaar op. \nHopelijk zien we je snel\, je bent iig van harte welkom! \nWanneer: elke 1e en 3e vrijdag van de maand\, van 15-21u (eten tussen 18-19u)\nVoor wie: young adults\, cq iedereen tussen de ca 15-25 jaar\nWaar:\n– 1e vrijdag Welzinruimte (door de bruine deuren\, links van de grote ronde tafel)\n– 3e vrijdag in de Huiskamer (door de bruine deuren\, twee keer rechts)\nAanmelden: niet nodig\, loop gerust binnen. Eet je mee? Meld je dan wel even aan via dit formulier \nKosten: Soep: € 1\,00 / € 2\,50 / € 5 | Koffie / thee: € 0\,50 / € 1\,00\nVragen/info: app of sms Anna op T06 8363 4248
URL:https://www.huismiereveld.nl/event/bordspellenmiddag-avond-young-adults-ca-15-25-jr/2027-02-05/
ATTACH;FMTTYPE=image/jpeg:https://www.huismiereveld.nl/wp-content/uploads/2026/02/pexels-cottonbro-4004420-scaled.jpg
END:VEVENT
END:VCALENDAR