BEGIN:VCALENDAR
VERSION:2.0
PRODID:-//Huis Miereveld - ECPv6.15.20//NONSGML v1.0//EN
CALSCALE:GREGORIAN
METHOD:PUBLISH
X-WR-CALNAME:Huis Miereveld
X-ORIGINAL-URL:https://www.huismiereveld.nl
X-WR-CALDESC:Evenementen voor Huis Miereveld
REFRESH-INTERVAL;VALUE=DURATION:PT1H
X-Robots-Tag:noindex
X-PUBLISHED-TTL:PT1H
BEGIN:VTIMEZONE
TZID:Europe/Amsterdam
BEGIN:DAYLIGHT
TZOFFSETFROM:+0100
TZOFFSETTO:+0200
TZNAME:CEST
DTSTART:20250330T010000
END:DAYLIGHT
BEGIN:STANDARD
TZOFFSETFROM:+0200
TZOFFSETTO:+0100
TZNAME:CET
DTSTART:20251026T010000
END:STANDARD
BEGIN:DAYLIGHT
TZOFFSETFROM:+0100
TZOFFSETTO:+0200
TZNAME:CEST
DTSTART:20260329T010000
END:DAYLIGHT
BEGIN:STANDARD
TZOFFSETFROM:+0200
TZOFFSETTO:+0100
TZNAME:CET
DTSTART:20261025T010000
END:STANDARD
BEGIN:DAYLIGHT
TZOFFSETFROM:+0100
TZOFFSETTO:+0200
TZNAME:CEST
DTSTART:20270328T010000
END:DAYLIGHT
BEGIN:STANDARD
TZOFFSETFROM:+0200
TZOFFSETTO:+0100
TZNAME:CET
DTSTART:20271031T010000
END:STANDARD
END:VTIMEZONE
BEGIN:VEVENT
DTSTART;TZID=Europe/Amsterdam:20260425T100000
DTEND;TZID=Europe/Amsterdam:20260425T120000
DTSTAMP:20260421T015130
CREATED:20250510T065014Z
LAST-MODIFIED:20250510T065419Z
UID:10006048-1777111200-1777118400@www.huismiereveld.nl
SUMMARY:De Wij(k) tuiniert samen
DESCRIPTION:Elke twee weken gaan we samen met wijkgenoten aan de slag met het onderhoud van de wijktuin achter ons pand. Een leuke manier om lekker buiten bezig te zijn en het is nog gezellig ook. Help je mee? \nNa 8000 tegels van het voormalige schoolplein verwijderd te hebben\, is het plein veranderd in een een groene oase met een moes-\, pluk- en siertuin. Een heerlijke plek om in te werken en te zijn. Samen maken we de tuin steeds mooier. \nDus heb je groene vingers? Kom die dan vooral inzetten in de Wij(k)tuin bij Huis Miereveld. Heb je (nog) geen groene vingers: er zijn genoeg vrijwilligers die je op weg kunnen helpen. Het is sws een gezellige ochtend! \nWaar: de tuin van Huis Miereveld (door het hek over het grind\, dan vind je ons)\nWanneer: om de twee weken op zaterdag van 10 tot 12u\nAanmelden: niet nodig\, je vindt ons in de tuin (hek door het grind op)
URL:https://www.huismiereveld.nl/event/de-wijk-tuiniert-samen-2/2026-04-25/
ATTACH;FMTTYPE=image/jpeg:https://www.huismiereveld.nl/wp-content/uploads/2024/06/HM-tuin-2-scaled.jpg
END:VEVENT
BEGIN:VEVENT
DTSTART;TZID=Europe/Amsterdam:20260509T100000
DTEND;TZID=Europe/Amsterdam:20260509T120000
DTSTAMP:20260421T015130
CREATED:20250510T065014Z
LAST-MODIFIED:20250510T065419Z
UID:10006049-1778320800-1778328000@www.huismiereveld.nl
SUMMARY:De Wij(k) tuiniert samen
DESCRIPTION:Elke twee weken gaan we samen met wijkgenoten aan de slag met het onderhoud van de wijktuin achter ons pand. Een leuke manier om lekker buiten bezig te zijn en het is nog gezellig ook. Help je mee? \nNa 8000 tegels van het voormalige schoolplein verwijderd te hebben\, is het plein veranderd in een een groene oase met een moes-\, pluk- en siertuin. Een heerlijke plek om in te werken en te zijn. Samen maken we de tuin steeds mooier. \nDus heb je groene vingers? Kom die dan vooral inzetten in de Wij(k)tuin bij Huis Miereveld. Heb je (nog) geen groene vingers: er zijn genoeg vrijwilligers die je op weg kunnen helpen. Het is sws een gezellige ochtend! \nWaar: de tuin van Huis Miereveld (door het hek over het grind\, dan vind je ons)\nWanneer: om de twee weken op zaterdag van 10 tot 12u\nAanmelden: niet nodig\, je vindt ons in de tuin (hek door het grind op)
URL:https://www.huismiereveld.nl/event/de-wijk-tuiniert-samen-2/2026-05-09/
ATTACH;FMTTYPE=image/jpeg:https://www.huismiereveld.nl/wp-content/uploads/2024/06/HM-tuin-2-scaled.jpg
END:VEVENT
BEGIN:VEVENT
DTSTART;TZID=Europe/Amsterdam:20260523T100000
DTEND;TZID=Europe/Amsterdam:20260523T120000
DTSTAMP:20260421T015130
CREATED:20250510T065014Z
LAST-MODIFIED:20250510T065419Z
UID:10006050-1779530400-1779537600@www.huismiereveld.nl
SUMMARY:De Wij(k) tuiniert samen
DESCRIPTION:Elke twee weken gaan we samen met wijkgenoten aan de slag met het onderhoud van de wijktuin achter ons pand. Een leuke manier om lekker buiten bezig te zijn en het is nog gezellig ook. Help je mee? \nNa 8000 tegels van het voormalige schoolplein verwijderd te hebben\, is het plein veranderd in een een groene oase met een moes-\, pluk- en siertuin. Een heerlijke plek om in te werken en te zijn. Samen maken we de tuin steeds mooier. \nDus heb je groene vingers? Kom die dan vooral inzetten in de Wij(k)tuin bij Huis Miereveld. Heb je (nog) geen groene vingers: er zijn genoeg vrijwilligers die je op weg kunnen helpen. Het is sws een gezellige ochtend! \nWaar: de tuin van Huis Miereveld (door het hek over het grind\, dan vind je ons)\nWanneer: om de twee weken op zaterdag van 10 tot 12u\nAanmelden: niet nodig\, je vindt ons in de tuin (hek door het grind op)
URL:https://www.huismiereveld.nl/event/de-wijk-tuiniert-samen-2/2026-05-23/
ATTACH;FMTTYPE=image/jpeg:https://www.huismiereveld.nl/wp-content/uploads/2024/06/HM-tuin-2-scaled.jpg
END:VEVENT
BEGIN:VEVENT
DTSTART;TZID=Europe/Amsterdam:20260606T100000
DTEND;TZID=Europe/Amsterdam:20260606T120000
DTSTAMP:20260421T015130
CREATED:20250510T065014Z
LAST-MODIFIED:20250510T065419Z
UID:10006051-1780740000-1780747200@www.huismiereveld.nl
SUMMARY:De Wij(k) tuiniert samen
DESCRIPTION:Elke twee weken gaan we samen met wijkgenoten aan de slag met het onderhoud van de wijktuin achter ons pand. Een leuke manier om lekker buiten bezig te zijn en het is nog gezellig ook. Help je mee? \nNa 8000 tegels van het voormalige schoolplein verwijderd te hebben\, is het plein veranderd in een een groene oase met een moes-\, pluk- en siertuin. Een heerlijke plek om in te werken en te zijn. Samen maken we de tuin steeds mooier. \nDus heb je groene vingers? Kom die dan vooral inzetten in de Wij(k)tuin bij Huis Miereveld. Heb je (nog) geen groene vingers: er zijn genoeg vrijwilligers die je op weg kunnen helpen. Het is sws een gezellige ochtend! \nWaar: de tuin van Huis Miereveld (door het hek over het grind\, dan vind je ons)\nWanneer: om de twee weken op zaterdag van 10 tot 12u\nAanmelden: niet nodig\, je vindt ons in de tuin (hek door het grind op)
URL:https://www.huismiereveld.nl/event/de-wijk-tuiniert-samen-2/2026-06-06/
ATTACH;FMTTYPE=image/jpeg:https://www.huismiereveld.nl/wp-content/uploads/2024/06/HM-tuin-2-scaled.jpg
END:VEVENT
BEGIN:VEVENT
DTSTART;TZID=Europe/Amsterdam:20260620T100000
DTEND;TZID=Europe/Amsterdam:20260620T120000
DTSTAMP:20260421T015130
CREATED:20250510T065014Z
LAST-MODIFIED:20250510T065419Z
UID:10006052-1781949600-1781956800@www.huismiereveld.nl
SUMMARY:De Wij(k) tuiniert samen
DESCRIPTION:Elke twee weken gaan we samen met wijkgenoten aan de slag met het onderhoud van de wijktuin achter ons pand. Een leuke manier om lekker buiten bezig te zijn en het is nog gezellig ook. Help je mee? \nNa 8000 tegels van het voormalige schoolplein verwijderd te hebben\, is het plein veranderd in een een groene oase met een moes-\, pluk- en siertuin. Een heerlijke plek om in te werken en te zijn. Samen maken we de tuin steeds mooier. \nDus heb je groene vingers? Kom die dan vooral inzetten in de Wij(k)tuin bij Huis Miereveld. Heb je (nog) geen groene vingers: er zijn genoeg vrijwilligers die je op weg kunnen helpen. Het is sws een gezellige ochtend! \nWaar: de tuin van Huis Miereveld (door het hek over het grind\, dan vind je ons)\nWanneer: om de twee weken op zaterdag van 10 tot 12u\nAanmelden: niet nodig\, je vindt ons in de tuin (hek door het grind op)
URL:https://www.huismiereveld.nl/event/de-wijk-tuiniert-samen-2/2026-06-20/
ATTACH;FMTTYPE=image/jpeg:https://www.huismiereveld.nl/wp-content/uploads/2024/06/HM-tuin-2-scaled.jpg
END:VEVENT
BEGIN:VEVENT
DTSTART;TZID=Europe/Amsterdam:20260704T100000
DTEND;TZID=Europe/Amsterdam:20260704T120000
DTSTAMP:20260421T015130
CREATED:20250510T065014Z
LAST-MODIFIED:20250510T065419Z
UID:10006053-1783159200-1783166400@www.huismiereveld.nl
SUMMARY:De Wij(k) tuiniert samen
DESCRIPTION:Elke twee weken gaan we samen met wijkgenoten aan de slag met het onderhoud van de wijktuin achter ons pand. Een leuke manier om lekker buiten bezig te zijn en het is nog gezellig ook. Help je mee? \nNa 8000 tegels van het voormalige schoolplein verwijderd te hebben\, is het plein veranderd in een een groene oase met een moes-\, pluk- en siertuin. Een heerlijke plek om in te werken en te zijn. Samen maken we de tuin steeds mooier. \nDus heb je groene vingers? Kom die dan vooral inzetten in de Wij(k)tuin bij Huis Miereveld. Heb je (nog) geen groene vingers: er zijn genoeg vrijwilligers die je op weg kunnen helpen. Het is sws een gezellige ochtend! \nWaar: de tuin van Huis Miereveld (door het hek over het grind\, dan vind je ons)\nWanneer: om de twee weken op zaterdag van 10 tot 12u\nAanmelden: niet nodig\, je vindt ons in de tuin (hek door het grind op)
URL:https://www.huismiereveld.nl/event/de-wijk-tuiniert-samen-2/2026-07-04/
ATTACH;FMTTYPE=image/jpeg:https://www.huismiereveld.nl/wp-content/uploads/2024/06/HM-tuin-2-scaled.jpg
END:VEVENT
BEGIN:VEVENT
DTSTART;TZID=Europe/Amsterdam:20260718T100000
DTEND;TZID=Europe/Amsterdam:20260718T120000
DTSTAMP:20260421T015130
CREATED:20250510T065014Z
LAST-MODIFIED:20250510T065419Z
UID:10006054-1784368800-1784376000@www.huismiereveld.nl
SUMMARY:De Wij(k) tuiniert samen
DESCRIPTION:Elke twee weken gaan we samen met wijkgenoten aan de slag met het onderhoud van de wijktuin achter ons pand. Een leuke manier om lekker buiten bezig te zijn en het is nog gezellig ook. Help je mee? \nNa 8000 tegels van het voormalige schoolplein verwijderd te hebben\, is het plein veranderd in een een groene oase met een moes-\, pluk- en siertuin. Een heerlijke plek om in te werken en te zijn. Samen maken we de tuin steeds mooier. \nDus heb je groene vingers? Kom die dan vooral inzetten in de Wij(k)tuin bij Huis Miereveld. Heb je (nog) geen groene vingers: er zijn genoeg vrijwilligers die je op weg kunnen helpen. Het is sws een gezellige ochtend! \nWaar: de tuin van Huis Miereveld (door het hek over het grind\, dan vind je ons)\nWanneer: om de twee weken op zaterdag van 10 tot 12u\nAanmelden: niet nodig\, je vindt ons in de tuin (hek door het grind op)
URL:https://www.huismiereveld.nl/event/de-wijk-tuiniert-samen-2/2026-07-18/
ATTACH;FMTTYPE=image/jpeg:https://www.huismiereveld.nl/wp-content/uploads/2024/06/HM-tuin-2-scaled.jpg
END:VEVENT
BEGIN:VEVENT
DTSTART;TZID=Europe/Amsterdam:20260801T100000
DTEND;TZID=Europe/Amsterdam:20260801T120000
DTSTAMP:20260421T015130
CREATED:20250510T065014Z
LAST-MODIFIED:20250510T065419Z
UID:10006055-1785578400-1785585600@www.huismiereveld.nl
SUMMARY:De Wij(k) tuiniert samen
DESCRIPTION:Elke twee weken gaan we samen met wijkgenoten aan de slag met het onderhoud van de wijktuin achter ons pand. Een leuke manier om lekker buiten bezig te zijn en het is nog gezellig ook. Help je mee? \nNa 8000 tegels van het voormalige schoolplein verwijderd te hebben\, is het plein veranderd in een een groene oase met een moes-\, pluk- en siertuin. Een heerlijke plek om in te werken en te zijn. Samen maken we de tuin steeds mooier. \nDus heb je groene vingers? Kom die dan vooral inzetten in de Wij(k)tuin bij Huis Miereveld. Heb je (nog) geen groene vingers: er zijn genoeg vrijwilligers die je op weg kunnen helpen. Het is sws een gezellige ochtend! \nWaar: de tuin van Huis Miereveld (door het hek over het grind\, dan vind je ons)\nWanneer: om de twee weken op zaterdag van 10 tot 12u\nAanmelden: niet nodig\, je vindt ons in de tuin (hek door het grind op)
URL:https://www.huismiereveld.nl/event/de-wijk-tuiniert-samen-2/2026-08-01/
ATTACH;FMTTYPE=image/jpeg:https://www.huismiereveld.nl/wp-content/uploads/2024/06/HM-tuin-2-scaled.jpg
END:VEVENT
BEGIN:VEVENT
DTSTART;TZID=Europe/Amsterdam:20260815T100000
DTEND;TZID=Europe/Amsterdam:20260815T120000
DTSTAMP:20260421T015130
CREATED:20250510T065014Z
LAST-MODIFIED:20250510T065419Z
UID:10006056-1786788000-1786795200@www.huismiereveld.nl
SUMMARY:De Wij(k) tuiniert samen
DESCRIPTION:Elke twee weken gaan we samen met wijkgenoten aan de slag met het onderhoud van de wijktuin achter ons pand. Een leuke manier om lekker buiten bezig te zijn en het is nog gezellig ook. Help je mee? \nNa 8000 tegels van het voormalige schoolplein verwijderd te hebben\, is het plein veranderd in een een groene oase met een moes-\, pluk- en siertuin. Een heerlijke plek om in te werken en te zijn. Samen maken we de tuin steeds mooier. \nDus heb je groene vingers? Kom die dan vooral inzetten in de Wij(k)tuin bij Huis Miereveld. Heb je (nog) geen groene vingers: er zijn genoeg vrijwilligers die je op weg kunnen helpen. Het is sws een gezellige ochtend! \nWaar: de tuin van Huis Miereveld (door het hek over het grind\, dan vind je ons)\nWanneer: om de twee weken op zaterdag van 10 tot 12u\nAanmelden: niet nodig\, je vindt ons in de tuin (hek door het grind op)
URL:https://www.huismiereveld.nl/event/de-wijk-tuiniert-samen-2/2026-08-15/
ATTACH;FMTTYPE=image/jpeg:https://www.huismiereveld.nl/wp-content/uploads/2024/06/HM-tuin-2-scaled.jpg
END:VEVENT
BEGIN:VEVENT
DTSTART;TZID=Europe/Amsterdam:20260829T100000
DTEND;TZID=Europe/Amsterdam:20260829T120000
DTSTAMP:20260421T015130
CREATED:20250510T065014Z
LAST-MODIFIED:20250510T065419Z
UID:10006057-1787997600-1788004800@www.huismiereveld.nl
SUMMARY:De Wij(k) tuiniert samen
DESCRIPTION:Elke twee weken gaan we samen met wijkgenoten aan de slag met het onderhoud van de wijktuin achter ons pand. Een leuke manier om lekker buiten bezig te zijn en het is nog gezellig ook. Help je mee? \nNa 8000 tegels van het voormalige schoolplein verwijderd te hebben\, is het plein veranderd in een een groene oase met een moes-\, pluk- en siertuin. Een heerlijke plek om in te werken en te zijn. Samen maken we de tuin steeds mooier. \nDus heb je groene vingers? Kom die dan vooral inzetten in de Wij(k)tuin bij Huis Miereveld. Heb je (nog) geen groene vingers: er zijn genoeg vrijwilligers die je op weg kunnen helpen. Het is sws een gezellige ochtend! \nWaar: de tuin van Huis Miereveld (door het hek over het grind\, dan vind je ons)\nWanneer: om de twee weken op zaterdag van 10 tot 12u\nAanmelden: niet nodig\, je vindt ons in de tuin (hek door het grind op)
URL:https://www.huismiereveld.nl/event/de-wijk-tuiniert-samen-2/2026-08-29/
ATTACH;FMTTYPE=image/jpeg:https://www.huismiereveld.nl/wp-content/uploads/2024/06/HM-tuin-2-scaled.jpg
END:VEVENT
BEGIN:VEVENT
DTSTART;TZID=Europe/Amsterdam:20260912T100000
DTEND;TZID=Europe/Amsterdam:20260912T120000
DTSTAMP:20260421T015130
CREATED:20250510T065014Z
LAST-MODIFIED:20250510T065419Z
UID:10006058-1789207200-1789214400@www.huismiereveld.nl
SUMMARY:De Wij(k) tuiniert samen
DESCRIPTION:Elke twee weken gaan we samen met wijkgenoten aan de slag met het onderhoud van de wijktuin achter ons pand. Een leuke manier om lekker buiten bezig te zijn en het is nog gezellig ook. Help je mee? \nNa 8000 tegels van het voormalige schoolplein verwijderd te hebben\, is het plein veranderd in een een groene oase met een moes-\, pluk- en siertuin. Een heerlijke plek om in te werken en te zijn. Samen maken we de tuin steeds mooier. \nDus heb je groene vingers? Kom die dan vooral inzetten in de Wij(k)tuin bij Huis Miereveld. Heb je (nog) geen groene vingers: er zijn genoeg vrijwilligers die je op weg kunnen helpen. Het is sws een gezellige ochtend! \nWaar: de tuin van Huis Miereveld (door het hek over het grind\, dan vind je ons)\nWanneer: om de twee weken op zaterdag van 10 tot 12u\nAanmelden: niet nodig\, je vindt ons in de tuin (hek door het grind op)
URL:https://www.huismiereveld.nl/event/de-wijk-tuiniert-samen-2/2026-09-12/
ATTACH;FMTTYPE=image/jpeg:https://www.huismiereveld.nl/wp-content/uploads/2024/06/HM-tuin-2-scaled.jpg
END:VEVENT
BEGIN:VEVENT
DTSTART;TZID=Europe/Amsterdam:20260926T100000
DTEND;TZID=Europe/Amsterdam:20260926T120000
DTSTAMP:20260421T015130
CREATED:20250510T065014Z
LAST-MODIFIED:20250510T065419Z
UID:10006059-1790416800-1790424000@www.huismiereveld.nl
SUMMARY:De Wij(k) tuiniert samen
DESCRIPTION:Elke twee weken gaan we samen met wijkgenoten aan de slag met het onderhoud van de wijktuin achter ons pand. Een leuke manier om lekker buiten bezig te zijn en het is nog gezellig ook. Help je mee? \nNa 8000 tegels van het voormalige schoolplein verwijderd te hebben\, is het plein veranderd in een een groene oase met een moes-\, pluk- en siertuin. Een heerlijke plek om in te werken en te zijn. Samen maken we de tuin steeds mooier. \nDus heb je groene vingers? Kom die dan vooral inzetten in de Wij(k)tuin bij Huis Miereveld. Heb je (nog) geen groene vingers: er zijn genoeg vrijwilligers die je op weg kunnen helpen. Het is sws een gezellige ochtend! \nWaar: de tuin van Huis Miereveld (door het hek over het grind\, dan vind je ons)\nWanneer: om de twee weken op zaterdag van 10 tot 12u\nAanmelden: niet nodig\, je vindt ons in de tuin (hek door het grind op)
URL:https://www.huismiereveld.nl/event/de-wijk-tuiniert-samen-2/2026-09-26/
ATTACH;FMTTYPE=image/jpeg:https://www.huismiereveld.nl/wp-content/uploads/2024/06/HM-tuin-2-scaled.jpg
END:VEVENT
BEGIN:VEVENT
DTSTART;TZID=Europe/Amsterdam:20261010T100000
DTEND;TZID=Europe/Amsterdam:20261010T120000
DTSTAMP:20260421T015130
CREATED:20250510T065014Z
LAST-MODIFIED:20250510T065419Z
UID:10006060-1791626400-1791633600@www.huismiereveld.nl
SUMMARY:De Wij(k) tuiniert samen
DESCRIPTION:Elke twee weken gaan we samen met wijkgenoten aan de slag met het onderhoud van de wijktuin achter ons pand. Een leuke manier om lekker buiten bezig te zijn en het is nog gezellig ook. Help je mee? \nNa 8000 tegels van het voormalige schoolplein verwijderd te hebben\, is het plein veranderd in een een groene oase met een moes-\, pluk- en siertuin. Een heerlijke plek om in te werken en te zijn. Samen maken we de tuin steeds mooier. \nDus heb je groene vingers? Kom die dan vooral inzetten in de Wij(k)tuin bij Huis Miereveld. Heb je (nog) geen groene vingers: er zijn genoeg vrijwilligers die je op weg kunnen helpen. Het is sws een gezellige ochtend! \nWaar: de tuin van Huis Miereveld (door het hek over het grind\, dan vind je ons)\nWanneer: om de twee weken op zaterdag van 10 tot 12u\nAanmelden: niet nodig\, je vindt ons in de tuin (hek door het grind op)
URL:https://www.huismiereveld.nl/event/de-wijk-tuiniert-samen-2/2026-10-10/
ATTACH;FMTTYPE=image/jpeg:https://www.huismiereveld.nl/wp-content/uploads/2024/06/HM-tuin-2-scaled.jpg
END:VEVENT
BEGIN:VEVENT
DTSTART;TZID=Europe/Amsterdam:20261024T100000
DTEND;TZID=Europe/Amsterdam:20261024T120000
DTSTAMP:20260421T015130
CREATED:20250510T065014Z
LAST-MODIFIED:20250510T065419Z
UID:10006061-1792836000-1792843200@www.huismiereveld.nl
SUMMARY:De Wij(k) tuiniert samen
DESCRIPTION:Elke twee weken gaan we samen met wijkgenoten aan de slag met het onderhoud van de wijktuin achter ons pand. Een leuke manier om lekker buiten bezig te zijn en het is nog gezellig ook. Help je mee? \nNa 8000 tegels van het voormalige schoolplein verwijderd te hebben\, is het plein veranderd in een een groene oase met een moes-\, pluk- en siertuin. Een heerlijke plek om in te werken en te zijn. Samen maken we de tuin steeds mooier. \nDus heb je groene vingers? Kom die dan vooral inzetten in de Wij(k)tuin bij Huis Miereveld. Heb je (nog) geen groene vingers: er zijn genoeg vrijwilligers die je op weg kunnen helpen. Het is sws een gezellige ochtend! \nWaar: de tuin van Huis Miereveld (door het hek over het grind\, dan vind je ons)\nWanneer: om de twee weken op zaterdag van 10 tot 12u\nAanmelden: niet nodig\, je vindt ons in de tuin (hek door het grind op)
URL:https://www.huismiereveld.nl/event/de-wijk-tuiniert-samen-2/2026-10-24/
ATTACH;FMTTYPE=image/jpeg:https://www.huismiereveld.nl/wp-content/uploads/2024/06/HM-tuin-2-scaled.jpg
END:VEVENT
BEGIN:VEVENT
DTSTART;TZID=Europe/Amsterdam:20261107T100000
DTEND;TZID=Europe/Amsterdam:20261107T120000
DTSTAMP:20260421T015130
CREATED:20250510T065014Z
LAST-MODIFIED:20250510T065419Z
UID:10006062-1794045600-1794052800@www.huismiereveld.nl
SUMMARY:De Wij(k) tuiniert samen
DESCRIPTION:Elke twee weken gaan we samen met wijkgenoten aan de slag met het onderhoud van de wijktuin achter ons pand. Een leuke manier om lekker buiten bezig te zijn en het is nog gezellig ook. Help je mee? \nNa 8000 tegels van het voormalige schoolplein verwijderd te hebben\, is het plein veranderd in een een groene oase met een moes-\, pluk- en siertuin. Een heerlijke plek om in te werken en te zijn. Samen maken we de tuin steeds mooier. \nDus heb je groene vingers? Kom die dan vooral inzetten in de Wij(k)tuin bij Huis Miereveld. Heb je (nog) geen groene vingers: er zijn genoeg vrijwilligers die je op weg kunnen helpen. Het is sws een gezellige ochtend! \nWaar: de tuin van Huis Miereveld (door het hek over het grind\, dan vind je ons)\nWanneer: om de twee weken op zaterdag van 10 tot 12u\nAanmelden: niet nodig\, je vindt ons in de tuin (hek door het grind op)
URL:https://www.huismiereveld.nl/event/de-wijk-tuiniert-samen-2/2026-11-07/
ATTACH;FMTTYPE=image/jpeg:https://www.huismiereveld.nl/wp-content/uploads/2024/06/HM-tuin-2-scaled.jpg
END:VEVENT
BEGIN:VEVENT
DTSTART;TZID=Europe/Amsterdam:20261121T100000
DTEND;TZID=Europe/Amsterdam:20261121T120000
DTSTAMP:20260421T015130
CREATED:20250510T065014Z
LAST-MODIFIED:20250510T065419Z
UID:10006063-1795255200-1795262400@www.huismiereveld.nl
SUMMARY:De Wij(k) tuiniert samen
DESCRIPTION:Elke twee weken gaan we samen met wijkgenoten aan de slag met het onderhoud van de wijktuin achter ons pand. Een leuke manier om lekker buiten bezig te zijn en het is nog gezellig ook. Help je mee? \nNa 8000 tegels van het voormalige schoolplein verwijderd te hebben\, is het plein veranderd in een een groene oase met een moes-\, pluk- en siertuin. Een heerlijke plek om in te werken en te zijn. Samen maken we de tuin steeds mooier. \nDus heb je groene vingers? Kom die dan vooral inzetten in de Wij(k)tuin bij Huis Miereveld. Heb je (nog) geen groene vingers: er zijn genoeg vrijwilligers die je op weg kunnen helpen. Het is sws een gezellige ochtend! \nWaar: de tuin van Huis Miereveld (door het hek over het grind\, dan vind je ons)\nWanneer: om de twee weken op zaterdag van 10 tot 12u\nAanmelden: niet nodig\, je vindt ons in de tuin (hek door het grind op)
URL:https://www.huismiereveld.nl/event/de-wijk-tuiniert-samen-2/2026-11-21/
ATTACH;FMTTYPE=image/jpeg:https://www.huismiereveld.nl/wp-content/uploads/2024/06/HM-tuin-2-scaled.jpg
END:VEVENT
BEGIN:VEVENT
DTSTART;TZID=Europe/Amsterdam:20261205T100000
DTEND;TZID=Europe/Amsterdam:20261205T120000
DTSTAMP:20260421T015130
CREATED:20250510T065014Z
LAST-MODIFIED:20250510T065419Z
UID:10006064-1796464800-1796472000@www.huismiereveld.nl
SUMMARY:De Wij(k) tuiniert samen
DESCRIPTION:Elke twee weken gaan we samen met wijkgenoten aan de slag met het onderhoud van de wijktuin achter ons pand. Een leuke manier om lekker buiten bezig te zijn en het is nog gezellig ook. Help je mee? \nNa 8000 tegels van het voormalige schoolplein verwijderd te hebben\, is het plein veranderd in een een groene oase met een moes-\, pluk- en siertuin. Een heerlijke plek om in te werken en te zijn. Samen maken we de tuin steeds mooier. \nDus heb je groene vingers? Kom die dan vooral inzetten in de Wij(k)tuin bij Huis Miereveld. Heb je (nog) geen groene vingers: er zijn genoeg vrijwilligers die je op weg kunnen helpen. Het is sws een gezellige ochtend! \nWaar: de tuin van Huis Miereveld (door het hek over het grind\, dan vind je ons)\nWanneer: om de twee weken op zaterdag van 10 tot 12u\nAanmelden: niet nodig\, je vindt ons in de tuin (hek door het grind op)
URL:https://www.huismiereveld.nl/event/de-wijk-tuiniert-samen-2/2026-12-05/
ATTACH;FMTTYPE=image/jpeg:https://www.huismiereveld.nl/wp-content/uploads/2024/06/HM-tuin-2-scaled.jpg
END:VEVENT
BEGIN:VEVENT
DTSTART;TZID=Europe/Amsterdam:20261219T100000
DTEND;TZID=Europe/Amsterdam:20261219T120000
DTSTAMP:20260421T015130
CREATED:20250510T065014Z
LAST-MODIFIED:20250510T065419Z
UID:10006065-1797674400-1797681600@www.huismiereveld.nl
SUMMARY:De Wij(k) tuiniert samen
DESCRIPTION:Elke twee weken gaan we samen met wijkgenoten aan de slag met het onderhoud van de wijktuin achter ons pand. Een leuke manier om lekker buiten bezig te zijn en het is nog gezellig ook. Help je mee? \nNa 8000 tegels van het voormalige schoolplein verwijderd te hebben\, is het plein veranderd in een een groene oase met een moes-\, pluk- en siertuin. Een heerlijke plek om in te werken en te zijn. Samen maken we de tuin steeds mooier. \nDus heb je groene vingers? Kom die dan vooral inzetten in de Wij(k)tuin bij Huis Miereveld. Heb je (nog) geen groene vingers: er zijn genoeg vrijwilligers die je op weg kunnen helpen. Het is sws een gezellige ochtend! \nWaar: de tuin van Huis Miereveld (door het hek over het grind\, dan vind je ons)\nWanneer: om de twee weken op zaterdag van 10 tot 12u\nAanmelden: niet nodig\, je vindt ons in de tuin (hek door het grind op)
URL:https://www.huismiereveld.nl/event/de-wijk-tuiniert-samen-2/2026-12-19/
ATTACH;FMTTYPE=image/jpeg:https://www.huismiereveld.nl/wp-content/uploads/2024/06/HM-tuin-2-scaled.jpg
END:VEVENT
END:VCALENDAR