BEGIN:VCALENDAR
VERSION:2.0
PRODID:-//Huis Miereveld - ECPv6.15.20//NONSGML v1.0//EN
CALSCALE:GREGORIAN
METHOD:PUBLISH
X-WR-CALNAME:Huis Miereveld
X-ORIGINAL-URL:https://www.huismiereveld.nl
X-WR-CALDESC:Evenementen voor Huis Miereveld
REFRESH-INTERVAL;VALUE=DURATION:PT1H
X-Robots-Tag:noindex
X-PUBLISHED-TTL:PT1H
BEGIN:VTIMEZONE
TZID:Europe/Amsterdam
BEGIN:DAYLIGHT
TZOFFSETFROM:+0100
TZOFFSETTO:+0200
TZNAME:CEST
DTSTART:20250330T010000
END:DAYLIGHT
BEGIN:STANDARD
TZOFFSETFROM:+0200
TZOFFSETTO:+0100
TZNAME:CET
DTSTART:20251026T010000
END:STANDARD
BEGIN:DAYLIGHT
TZOFFSETFROM:+0100
TZOFFSETTO:+0200
TZNAME:CEST
DTSTART:20260329T010000
END:DAYLIGHT
BEGIN:STANDARD
TZOFFSETFROM:+0200
TZOFFSETTO:+0100
TZNAME:CET
DTSTART:20261025T010000
END:STANDARD
BEGIN:DAYLIGHT
TZOFFSETFROM:+0100
TZOFFSETTO:+0200
TZNAME:CEST
DTSTART:20270328T010000
END:DAYLIGHT
BEGIN:STANDARD
TZOFFSETFROM:+0200
TZOFFSETTO:+0100
TZNAME:CET
DTSTART:20271031T010000
END:STANDARD
BEGIN:DAYLIGHT
TZOFFSETFROM:+0100
TZOFFSETTO:+0200
TZNAME:CEST
DTSTART:20280326T010000
END:DAYLIGHT
BEGIN:STANDARD
TZOFFSETFROM:+0200
TZOFFSETTO:+0100
TZNAME:CET
DTSTART:20281029T010000
END:STANDARD
END:VTIMEZONE
BEGIN:VEVENT
DTSTART;TZID=Europe/Amsterdam:20260525T100000
DTEND;TZID=Europe/Amsterdam:20260525T120000
DTSTAMP:20260421T015037
CREATED:20231029T095502Z
LAST-MODIFIED:20260416T154646Z
UID:10008425-1779703200-1779710400@www.huismiereveld.nl
SUMMARY:Répair Café
DESCRIPTION:Elke laatste maandag van de maand zijn onze repairders van 10 tot 12 uur aanwezig voor reparaties van kapotte zaken. Bijvoorbeeld beschadigde kleding\, kapotte apparaten\, sieraden (geen smeedwerk) of speelgoed.\n\nKun je niet overdag? Geen probleem\, we organiseren ook elke derde woensdag van de maand een Repair Cafe in de avond (19-21u)\n\nAanmelden: Niet nodig\, je kunt zonder afspraak binnen lopen.\nTijd: van 10-12 uur\nKosten: €0\,00/€2\,50/€5\,00 per reparatie\nKom ajb zoveel mogelijk lopend of met de fiets: we hebben maar beperkte parkeermogelijkheden en het is beter voor je gezondheid & het milieu!
URL:https://www.huismiereveld.nl/event/repair-cafe/2026-05-25/
ATTACH;FMTTYPE=image/jpeg:https://www.huismiereveld.nl/wp-content/uploads/2023/02/Repair-cafe.jpg
END:VEVENT
BEGIN:VEVENT
DTSTART;TZID=Europe/Amsterdam:20260629T100000
DTEND;TZID=Europe/Amsterdam:20260629T120000
DTSTAMP:20260421T015037
CREATED:20231029T095502Z
LAST-MODIFIED:20260416T154646Z
UID:10008426-1782727200-1782734400@www.huismiereveld.nl
SUMMARY:Répair Café
DESCRIPTION:Elke laatste maandag van de maand zijn onze repairders van 10 tot 12 uur aanwezig voor reparaties van kapotte zaken. Bijvoorbeeld beschadigde kleding\, kapotte apparaten\, sieraden (geen smeedwerk) of speelgoed.\n\nKun je niet overdag? Geen probleem\, we organiseren ook elke derde woensdag van de maand een Repair Cafe in de avond (19-21u)\n\nAanmelden: Niet nodig\, je kunt zonder afspraak binnen lopen.\nTijd: van 10-12 uur\nKosten: €0\,00/€2\,50/€5\,00 per reparatie\nKom ajb zoveel mogelijk lopend of met de fiets: we hebben maar beperkte parkeermogelijkheden en het is beter voor je gezondheid & het milieu!
URL:https://www.huismiereveld.nl/event/repair-cafe/2026-06-29/
ATTACH;FMTTYPE=image/jpeg:https://www.huismiereveld.nl/wp-content/uploads/2023/02/Repair-cafe.jpg
END:VEVENT
BEGIN:VEVENT
DTSTART;TZID=Europe/Amsterdam:20260727T100000
DTEND;TZID=Europe/Amsterdam:20260727T120000
DTSTAMP:20260421T015037
CREATED:20231029T095502Z
LAST-MODIFIED:20260416T154646Z
UID:10008427-1785146400-1785153600@www.huismiereveld.nl
SUMMARY:Répair Café
DESCRIPTION:Elke laatste maandag van de maand zijn onze repairders van 10 tot 12 uur aanwezig voor reparaties van kapotte zaken. Bijvoorbeeld beschadigde kleding\, kapotte apparaten\, sieraden (geen smeedwerk) of speelgoed.\n\nKun je niet overdag? Geen probleem\, we organiseren ook elke derde woensdag van de maand een Repair Cafe in de avond (19-21u)\n\nAanmelden: Niet nodig\, je kunt zonder afspraak binnen lopen.\nTijd: van 10-12 uur\nKosten: €0\,00/€2\,50/€5\,00 per reparatie\nKom ajb zoveel mogelijk lopend of met de fiets: we hebben maar beperkte parkeermogelijkheden en het is beter voor je gezondheid & het milieu!
URL:https://www.huismiereveld.nl/event/repair-cafe/2026-07-27/
ATTACH;FMTTYPE=image/jpeg:https://www.huismiereveld.nl/wp-content/uploads/2023/02/Repair-cafe.jpg
END:VEVENT
BEGIN:VEVENT
DTSTART;TZID=Europe/Amsterdam:20260831T100000
DTEND;TZID=Europe/Amsterdam:20260831T120000
DTSTAMP:20260421T015037
CREATED:20231029T095502Z
LAST-MODIFIED:20260416T154646Z
UID:10008428-1788170400-1788177600@www.huismiereveld.nl
SUMMARY:Répair Café
DESCRIPTION:Elke laatste maandag van de maand zijn onze repairders van 10 tot 12 uur aanwezig voor reparaties van kapotte zaken. Bijvoorbeeld beschadigde kleding\, kapotte apparaten\, sieraden (geen smeedwerk) of speelgoed.\n\nKun je niet overdag? Geen probleem\, we organiseren ook elke derde woensdag van de maand een Repair Cafe in de avond (19-21u)\n\nAanmelden: Niet nodig\, je kunt zonder afspraak binnen lopen.\nTijd: van 10-12 uur\nKosten: €0\,00/€2\,50/€5\,00 per reparatie\nKom ajb zoveel mogelijk lopend of met de fiets: we hebben maar beperkte parkeermogelijkheden en het is beter voor je gezondheid & het milieu!
URL:https://www.huismiereveld.nl/event/repair-cafe/2026-08-31/
ATTACH;FMTTYPE=image/jpeg:https://www.huismiereveld.nl/wp-content/uploads/2023/02/Repair-cafe.jpg
END:VEVENT
BEGIN:VEVENT
DTSTART;TZID=Europe/Amsterdam:20260928T100000
DTEND;TZID=Europe/Amsterdam:20260928T120000
DTSTAMP:20260421T015037
CREATED:20231029T095502Z
LAST-MODIFIED:20260416T154646Z
UID:10008429-1790589600-1790596800@www.huismiereveld.nl
SUMMARY:Répair Café
DESCRIPTION:Elke laatste maandag van de maand zijn onze repairders van 10 tot 12 uur aanwezig voor reparaties van kapotte zaken. Bijvoorbeeld beschadigde kleding\, kapotte apparaten\, sieraden (geen smeedwerk) of speelgoed.\n\nKun je niet overdag? Geen probleem\, we organiseren ook elke derde woensdag van de maand een Repair Cafe in de avond (19-21u)\n\nAanmelden: Niet nodig\, je kunt zonder afspraak binnen lopen.\nTijd: van 10-12 uur\nKosten: €0\,00/€2\,50/€5\,00 per reparatie\nKom ajb zoveel mogelijk lopend of met de fiets: we hebben maar beperkte parkeermogelijkheden en het is beter voor je gezondheid & het milieu!
URL:https://www.huismiereveld.nl/event/repair-cafe/2026-09-28/
ATTACH;FMTTYPE=image/jpeg:https://www.huismiereveld.nl/wp-content/uploads/2023/02/Repair-cafe.jpg
END:VEVENT
BEGIN:VEVENT
DTSTART;TZID=Europe/Amsterdam:20261026T100000
DTEND;TZID=Europe/Amsterdam:20261026T120000
DTSTAMP:20260421T015037
CREATED:20231029T095502Z
LAST-MODIFIED:20260416T154646Z
UID:10008430-1793008800-1793016000@www.huismiereveld.nl
SUMMARY:Répair Café
DESCRIPTION:Elke laatste maandag van de maand zijn onze repairders van 10 tot 12 uur aanwezig voor reparaties van kapotte zaken. Bijvoorbeeld beschadigde kleding\, kapotte apparaten\, sieraden (geen smeedwerk) of speelgoed.\n\nKun je niet overdag? Geen probleem\, we organiseren ook elke derde woensdag van de maand een Repair Cafe in de avond (19-21u)\n\nAanmelden: Niet nodig\, je kunt zonder afspraak binnen lopen.\nTijd: van 10-12 uur\nKosten: €0\,00/€2\,50/€5\,00 per reparatie\nKom ajb zoveel mogelijk lopend of met de fiets: we hebben maar beperkte parkeermogelijkheden en het is beter voor je gezondheid & het milieu!
URL:https://www.huismiereveld.nl/event/repair-cafe/2026-10-26/
ATTACH;FMTTYPE=image/jpeg:https://www.huismiereveld.nl/wp-content/uploads/2023/02/Repair-cafe.jpg
END:VEVENT
BEGIN:VEVENT
DTSTART;TZID=Europe/Amsterdam:20261130T100000
DTEND;TZID=Europe/Amsterdam:20261130T120000
DTSTAMP:20260421T015037
CREATED:20231029T095502Z
LAST-MODIFIED:20260416T154646Z
UID:10008431-1796032800-1796040000@www.huismiereveld.nl
SUMMARY:Répair Café
DESCRIPTION:Elke laatste maandag van de maand zijn onze repairders van 10 tot 12 uur aanwezig voor reparaties van kapotte zaken. Bijvoorbeeld beschadigde kleding\, kapotte apparaten\, sieraden (geen smeedwerk) of speelgoed.\n\nKun je niet overdag? Geen probleem\, we organiseren ook elke derde woensdag van de maand een Repair Cafe in de avond (19-21u)\n\nAanmelden: Niet nodig\, je kunt zonder afspraak binnen lopen.\nTijd: van 10-12 uur\nKosten: €0\,00/€2\,50/€5\,00 per reparatie\nKom ajb zoveel mogelijk lopend of met de fiets: we hebben maar beperkte parkeermogelijkheden en het is beter voor je gezondheid & het milieu!
URL:https://www.huismiereveld.nl/event/repair-cafe/2026-11-30/
ATTACH;FMTTYPE=image/jpeg:https://www.huismiereveld.nl/wp-content/uploads/2023/02/Repair-cafe.jpg
END:VEVENT
BEGIN:VEVENT
DTSTART;TZID=Europe/Amsterdam:20261228T100000
DTEND;TZID=Europe/Amsterdam:20261228T120000
DTSTAMP:20260421T015037
CREATED:20231029T095502Z
LAST-MODIFIED:20260416T154646Z
UID:10008432-1798452000-1798459200@www.huismiereveld.nl
SUMMARY:Répair Café
DESCRIPTION:Elke laatste maandag van de maand zijn onze repairders van 10 tot 12 uur aanwezig voor reparaties van kapotte zaken. Bijvoorbeeld beschadigde kleding\, kapotte apparaten\, sieraden (geen smeedwerk) of speelgoed.\n\nKun je niet overdag? Geen probleem\, we organiseren ook elke derde woensdag van de maand een Repair Cafe in de avond (19-21u)\n\nAanmelden: Niet nodig\, je kunt zonder afspraak binnen lopen.\nTijd: van 10-12 uur\nKosten: €0\,00/€2\,50/€5\,00 per reparatie\nKom ajb zoveel mogelijk lopend of met de fiets: we hebben maar beperkte parkeermogelijkheden en het is beter voor je gezondheid & het milieu!
URL:https://www.huismiereveld.nl/event/repair-cafe/2026-12-28/
ATTACH;FMTTYPE=image/jpeg:https://www.huismiereveld.nl/wp-content/uploads/2023/02/Repair-cafe.jpg
END:VEVENT
BEGIN:VEVENT
DTSTART;TZID=Europe/Amsterdam:20270125T100000
DTEND;TZID=Europe/Amsterdam:20270125T120000
DTSTAMP:20260421T015037
CREATED:20231029T095502Z
LAST-MODIFIED:20260416T154646Z
UID:10008433-1800871200-1800878400@www.huismiereveld.nl
SUMMARY:Répair Café
DESCRIPTION:Elke laatste maandag van de maand zijn onze repairders van 10 tot 12 uur aanwezig voor reparaties van kapotte zaken. Bijvoorbeeld beschadigde kleding\, kapotte apparaten\, sieraden (geen smeedwerk) of speelgoed.\n\nKun je niet overdag? Geen probleem\, we organiseren ook elke derde woensdag van de maand een Repair Cafe in de avond (19-21u)\n\nAanmelden: Niet nodig\, je kunt zonder afspraak binnen lopen.\nTijd: van 10-12 uur\nKosten: €0\,00/€2\,50/€5\,00 per reparatie\nKom ajb zoveel mogelijk lopend of met de fiets: we hebben maar beperkte parkeermogelijkheden en het is beter voor je gezondheid & het milieu!
URL:https://www.huismiereveld.nl/event/repair-cafe/2027-01-25/
ATTACH;FMTTYPE=image/jpeg:https://www.huismiereveld.nl/wp-content/uploads/2023/02/Repair-cafe.jpg
END:VEVENT
BEGIN:VEVENT
DTSTART;TZID=Europe/Amsterdam:20270222T100000
DTEND;TZID=Europe/Amsterdam:20270222T120000
DTSTAMP:20260421T015037
CREATED:20231029T095502Z
LAST-MODIFIED:20260416T154646Z
UID:10008434-1803290400-1803297600@www.huismiereveld.nl
SUMMARY:Répair Café
DESCRIPTION:Elke laatste maandag van de maand zijn onze repairders van 10 tot 12 uur aanwezig voor reparaties van kapotte zaken. Bijvoorbeeld beschadigde kleding\, kapotte apparaten\, sieraden (geen smeedwerk) of speelgoed.\n\nKun je niet overdag? Geen probleem\, we organiseren ook elke derde woensdag van de maand een Repair Cafe in de avond (19-21u)\n\nAanmelden: Niet nodig\, je kunt zonder afspraak binnen lopen.\nTijd: van 10-12 uur\nKosten: €0\,00/€2\,50/€5\,00 per reparatie\nKom ajb zoveel mogelijk lopend of met de fiets: we hebben maar beperkte parkeermogelijkheden en het is beter voor je gezondheid & het milieu!
URL:https://www.huismiereveld.nl/event/repair-cafe/2027-02-22/
ATTACH;FMTTYPE=image/jpeg:https://www.huismiereveld.nl/wp-content/uploads/2023/02/Repair-cafe.jpg
END:VEVENT
END:VCALENDAR