BEGIN:VCALENDAR
VERSION:2.0
PRODID:-//Huis Miereveld - ECPv6.15.20//NONSGML v1.0//EN
CALSCALE:GREGORIAN
METHOD:PUBLISH
X-WR-CALNAME:Huis Miereveld
X-ORIGINAL-URL:https://www.huismiereveld.nl
X-WR-CALDESC:Evenementen voor Huis Miereveld
REFRESH-INTERVAL;VALUE=DURATION:PT1H
X-Robots-Tag:noindex
X-PUBLISHED-TTL:PT1H
BEGIN:VTIMEZONE
TZID:Europe/Amsterdam
BEGIN:DAYLIGHT
TZOFFSETFROM:+0100
TZOFFSETTO:+0200
TZNAME:CEST
DTSTART:20250330T010000
END:DAYLIGHT
BEGIN:STANDARD
TZOFFSETFROM:+0200
TZOFFSETTO:+0100
TZNAME:CET
DTSTART:20251026T010000
END:STANDARD
BEGIN:DAYLIGHT
TZOFFSETFROM:+0100
TZOFFSETTO:+0200
TZNAME:CEST
DTSTART:20260329T010000
END:DAYLIGHT
BEGIN:STANDARD
TZOFFSETFROM:+0200
TZOFFSETTO:+0100
TZNAME:CET
DTSTART:20261025T010000
END:STANDARD
BEGIN:DAYLIGHT
TZOFFSETFROM:+0100
TZOFFSETTO:+0200
TZNAME:CEST
DTSTART:20270328T010000
END:DAYLIGHT
BEGIN:STANDARD
TZOFFSETFROM:+0200
TZOFFSETTO:+0100
TZNAME:CET
DTSTART:20271031T010000
END:STANDARD
END:VTIMEZONE
BEGIN:VEVENT
DTSTART;TZID=Europe/Amsterdam:20260401T080000
DTEND;TZID=Europe/Amsterdam:20260430T170000
DTSTAMP:20260422T125014
CREATED:20260319T124027Z
LAST-MODIFIED:20260323T092922Z
UID:10009231-1775030400-1777568400@www.huismiereveld.nl
SUMMARY:Activiteitenoverzicht april
DESCRIPTION:Agenda april 2026\n Alle werkdagen behalve woensdag is KoffieHuis Miereveld\ngeopend van 10 – 12u en tijdens activiteiten\nMAANDAG \nElke maandag\n– De Wij(k) beweegt: Stoelyoga* (9.15-9.45u)\n– De Wij(k) speelt een spelletje: Klaverjassen/ spelletjesmiddag (13.00 – 15.30u)\n– De Wij(k) is handig op de naaimachine (13.30 – 16u) \n6 april: Tweede Paasdag (gesloten)\n13 april.:\n– Digitaal Hulpplein: voor al je vragen over laptops\, telefoons en internet (10 – 12u) \n– De Wij(k) eet samen* (18 – 19.30u\, inloop vanaf 17.30u)    \n27 april: Koningdag (gesloten) \nDINSDAG  \nElke dinsdag:\n– De Wij(k) beweegt: Tai Chi – Locatie Keigoed – Woestijgerweg 3 (8.30-9.30u)\n– De Wij(k) MOEStuiniert (10 – 12u)\n– De wij(k) eet een soepje (12 – 13.30u) \n7 april: De Wij(k) wandelt samen (11- 12u)\n14 april  Inspiratiesessie Financieel Fit* (15-17u) \n28 april:\n– Samen werken aan een wandkleed (Textielfestival) (9.00-17.00u)\n– De Wij(k) speelt Hitster (19.30-21u) \nWOENSDAG \n15 april \n– Muziekvriendenkring i.s.m. Volksuniversiteit Amersfoort (10.30 – 12u)\n– Repair Café (Avond editie) (19 – 21u)\nDONDERDAG \nElke donderdag: Meefietsen op de Duo-fiets met Fietsmaatjes Amersfoort (10 – 12.30u)\n2\, 16 & 30 april: De Wij(k) speelt een (bord)spelletje(avond) (19.45-22.00) \nVRIJDAG  \nElke vrijdag:\n– Traditionele Zen Yoga* (10-11u)\n– De wij(k) beweegt: Tai Chi (zittend) – Locatie: Keigoed\, Woestijgerweg 3 (11-12u) \n– De wij(k) eet een soepje (12 – 13.30)\n– De Wij(k) MOEStuiniert (13.30 – 15.30u) \n3 april.: De Wij(k) eet internationaal: Japans*VOL*(18.00-19.30) \n3 & 17 april:\n– De Wij(k) breit/haakt (13.30 – 15.30u)\n– Bordspellenmiddag &- avond Young Adults* (15-25 jr) (15 – 21 u) \n10 april:\n– Workshop Origami cadeaudoosje en boekhoekje vouwen* (13.45 – 16u)\n– De Wij(k) kijkt een film* (19.45 – ca. 21.45u\, inloop vanaf 19.30u) \n24 april: Creatieve workshop: Stoffen boekomslag maken* (deel 2) (13.45 – 16u)\n\nZATERDAG \n11 & 25 april: De wij(k) tuiniert samen (10 – 12u) \nZONDAG \n26 april: LEGO Bouwmiddag* (6-12 jaar) (14 -16u) \nEXPOSITIE \nKunstpalet 033 \nAanmelden voor activiteiten met */ informatie: welkom@huismiereveld.nl | uitgebreidere info over \nActiviteiten en aanmelden: www.huismiereveld.nl/agenda \n 
URL:https://www.huismiereveld.nl/event/activiteitenoverzicht-april/
ATTACH;FMTTYPE=image/jpeg:https://www.huismiereveld.nl/wp-content/uploads/2024/05/pexels-thngocbich-636243-scaled.jpg
END:VEVENT
BEGIN:VEVENT
DTSTART;TZID=Europe/Amsterdam:20260415T080000
DTEND;TZID=Europe/Amsterdam:20260430T170000
DTSTAMP:20260422T125014
CREATED:20260302T134430Z
LAST-MODIFIED:20260415T074840Z
UID:10009133-1776240000-1777568400@www.huismiereveld.nl
SUMMARY:Vacatures Huiskamer
DESCRIPTION:Zowel in het aantal vrijwilligers als in het aantal activiteiten groeien we enorm. Daar zijn we superblij mee en daar kunnen we wel wat (extra) hulp bij gebruiken! Lijkt het je leuk om mee te bouwen aan ons initiatief\, aan de activiteiten van de Huiskamer van Huis Miereveld? Kijk dan vooral hieronder of er een interessante functie voor je bij zit. We ontmoeten je graag! \nVacature (betaald)\nWe zoeken een:\n– Communicatiecoördinator\nEen communicatiecoördinator die zich\, in samenwerking met een aantal uitvoerende vrijwilligers\, gaat ontfermen over de doorontwikkeling en uitvoering van onze communicatie- en communicatiestrategie. \nAchter het linkje van bovenstaande vacature vind je een uitgebreide profielbeschrijving \nInteresse? \nMail ons dan je CV en motivatie (brief\, filmpje\, wat je maar wilt) waaruit blijkt waarom juist jij zo geschikt bent voor de betreffende functie. Je kunt op deze vacatures reageren tot en met eind april. \nVrijwilligersvacatures\nVerder zijn we nog hard op zoek naar invulling van een aantal (andere) vrijwilligersfuncties. Bijvoorbeeld naar gastmensen voor de vegetarische maaltijden op maandag en internationale maaltijden (vrijdag)\, het avond Repair Cafe\, een coordinator kinderactiviteiten\, tuinvrijwilligers voor ons Samen Groen team en een koffieman of -vrouw voor de tuinploeg op zaterdag. \nOnze actuele vrijwilligersvacatures vind je altijd op de site van de vrijwilligersvacaturebank.
URL:https://www.huismiereveld.nl/event/vacatures-huiskamer/
ATTACH;FMTTYPE=image/jpeg:https://www.huismiereveld.nl/wp-content/uploads/2026/03/Vacatures.jpg
END:VEVENT
END:VCALENDAR